BEGIN:VCALENDAR
VERSION:2.0
PRODID:-//hacksw/handcal//NONSGML v1.0//EN
CALSCALE:GREGORIAN
BEGIN:VEVENT
LOCATION:Sede della Fondazione Via Melchiorre Delfico\, 6 - Teramo
DESCRIPTION:Referente: Ufficio Marketing Contatti: marketing@sistemi.com - 011/4019650
DTSTART:20241206T093000CEUTC
DTEND:20241206T123000CEUTC
SUMMARY:Evento “Nuove tecnologie a supporto dell’attività professionale” con l’ODCEC di Teramo
URL;VALUE=URI:
DTSTAMP:20260424T173906CEUTC
UID:69ebaaba53252
END:VEVENT
END:VCALENDAR