BEGIN:VCALENDAR
VERSION:2.0
PRODID:-//hacksw/handcal//NONSGML v1.0//EN
CALSCALE:GREGORIAN
BEGIN:VEVENT
LOCATION:Diretta  - Webinar
DESCRIPTION:Referente: Ufficio Marketing Contatti: marketing@sistemi.com - 011/4019650
DTSTART:20220329T093000CEUTC
DTEND:20220329T133000CEUTC
SUMMARY:Master lavoro Eutekne 5^ giornata: &#8220\;Organizzazione dell’orario di lavoro: flessibilità e nuove regole.&#8221\;
URL;VALUE=URI:
DTSTAMP:20260424T010934CEUTC
UID:69eac2ce47adf
END:VEVENT
END:VCALENDAR