BEGIN:VCALENDAR
VERSION:2.0
PRODID:-//hacksw/handcal//NONSGML v1.0//EN
CALSCALE:GREGORIAN
BEGIN:VEVENT
LOCATION:Webinar - On line
DESCRIPTION:Referente: Ufficio Marketing Sistemi Contatti: marketing@sistemi.com - 011/4019650
DTSTART:20210526T143000CEUTC
DTEND:20210526T163000CEUTC
SUMMARY:Webinar “Licenziamento individuale” con l’Ordine dei CDL di Como
URL;VALUE=URI:
DTSTAMP:20260423T224422CEUTC
UID:69eaa0c65cad8
END:VEVENT
END:VCALENDAR