BEGIN:VCALENDAR
VERSION:2.0
PRODID:-//hacksw/handcal//NONSGML v1.0//EN
CALSCALE:GREGORIAN
BEGIN:VEVENT
LOCATION:Web o Presenza - Webinar o Aula
DESCRIPTION:Referente: Ufficio Marketing Contatti: marketing@sistemi.com - 011/4019650
DTSTART:20220117T093000CEUTC
DTEND:20220207T183000CEUTC
SUMMARY:Master Eutekne 4^ giornata: “Le novità della Manovra 2022 e il punto sull’attuazione della riforma fiscale. <BR> Casi e questioni IVA – I parte: Edilizia\, detrazione\, reverse\, risarcimenti e transazioni”
URL;VALUE=URI:
DTSTAMP:20260419T150851CEUTC
UID:69e4f00396c63
END:VEVENT
END:VCALENDAR