BEGIN:VCALENDAR
VERSION:2.0
PRODID:-//hacksw/handcal//NONSGML v1.0//EN
CALSCALE:GREGORIAN
BEGIN:VEVENT
LOCATION:Diretta  - Webinar
DESCRIPTION:Referente: Ufficio Marketing Contatti: marketing@sistemi.com - 011/4019650
DTSTART:20201103T093000CEUTC
DTEND:20201215T133000CEUTC
SUMMARY:Master Eutekne 2^ giornata: “Gestione e verifica dei piani di sviluppo delle attività aziendali” – “Effetto Covid-19 sulle attività di revisione 2020 – L’Execution”
URL;VALUE=URI:
DTSTAMP:20260423T162007CEUTC
UID:69ea46b7934e9
END:VEVENT
END:VCALENDAR