BEGIN:VCALENDAR
VERSION:2.0
PRODID:-//hacksw/handcal//NONSGML v1.0//EN
CALSCALE:GREGORIAN
BEGIN:VEVENT
LOCATION:Web o Presenza - Webinar o Aula
DESCRIPTION:Referente: Ufficio Marketing Contatti: marketing@sistemi.com - 011/4019650
DTSTART:20220209T093000CEUTC
DTEND:20220228T183000CEUTC
SUMMARY:Master Eutekne 5^ giornata: “Le novità in tema di dichiarazione IVA e degli adempimenti 2022&#8243\;. <BR> &#8220\;Casi e questioni IVA – II parte: Vendite on-line\, operazioni promozionali\, errati addebiti e note di variazione”
URL;VALUE=URI:
DTSTAMP:20260419T150927CEUTC
UID:69e4f027bc795
END:VEVENT
END:VCALENDAR