BEGIN:VCALENDAR
VERSION:2.0
PRODID:-//hacksw/handcal//NONSGML v1.0//EN
CALSCALE:GREGORIAN
BEGIN:VEVENT
LOCATION:Sala Convegni HOTEL LÀ DI MORET - Via Tricesimo\, 276  - Udine
DESCRIPTION:Referente: Ufficio Marketing Contatti: marketing@sistemi.com - 011/4019650
DTSTART:20231109T090000CEUTC
DTEND:20231109T123000CEUTC
SUMMARY:Evento “Business Intelligence: strumento di valorizzazione del servizio al cliente e miglioramento dell’organizzazione” con l’ODCEC di Udine
URL;VALUE=URI:
DTSTAMP:20260422T002920CEUTC
UID:69e8166066ff7
END:VEVENT
END:VCALENDAR