BEGIN:VCALENDAR
VERSION:2.0
PRODID:-//hacksw/handcal//NONSGML v1.0//EN
CALSCALE:GREGORIAN
BEGIN:VEVENT
LOCATION:Fiera Milano Rho - Milano
DESCRIPTION:Referente: Ufficio Marketing Contatti: marketing@sistemi.com - 011/4019650
DTSTART:20220223T090000CEUTC
DTEND:20220225T170000CEUTC
SUMMARY:Siamo alla fiera Myplant &#038\; Garden
URL;VALUE=URI:
DTSTAMP:20260421T113522CEUTC
UID:69e760fa44675
END:VEVENT
END:VCALENDAR