BEGIN:VCALENDAR
VERSION:2.0
PRODID:-//hacksw/handcal//NONSGML v1.0//EN
CALSCALE:GREGORIAN
BEGIN:VEVENT
LOCATION:Istituto Superiore di Scienze Religiose<br>Viale Cialdini\, 2 Monte Berico  - Vicenza
DESCRIPTION:Referente: Ufficio Marketing Contatti: marketing@sistemi.com - 011/4019650
DTSTART:20200129T100000CEUTC
DTEND:20200129T130000CEUTC
SUMMARY:Vicenza &#8211\; Legge di bilancio 2020 e altre novità per il lavoro
URL;VALUE=URI:
DTSTAMP:20260419T095802CEUTC
UID:69e4a72a4b19b
END:VEVENT
END:VCALENDAR