BEGIN:VCALENDAR
VERSION:2.0
PRODID:-//hacksw/handcal//NONSGML v1.0//EN
CALSCALE:GREGORIAN
BEGIN:VEVENT
LOCATION:CAESAR’S HOTEL\, Via Darwin 2/4 - Cagliari
DESCRIPTION:Referente: Ufficio Marketing Contatti: marketing@sistemi.com - 011/4019650
DTSTART:20231117T150000CEUTC
DTEND:20231117T173000CEUTC
SUMMARY:Evento &#8220\;La continuità aziendale e gli adeguati assetti organizzativi\, amministrativi e contabili&#8221\; con l&#8217\;ODCEC di Cagliari
URL;VALUE=URI:
DTSTAMP:20260421T225854CEUTC
UID:69e8012e30d7a
END:VEVENT
END:VCALENDAR