BEGIN:VCALENDAR
VERSION:2.0
PRODID:-//hacksw/handcal//NONSGML v1.0//EN
CALSCALE:GREGORIAN
BEGIN:VEVENT
LOCATION:Hotel Le Robinie <br>Via per Busto Arsizio\, 9 - Solbiate Olona
DESCRIPTION:Referente: Ufficio Marketing Contatti: marketing@sistemi.com - 011-4019650
DTSTART:20180704T100000CEUTC
DTEND:20180704T130000CEUTC
SUMMARY:BUSTO ARSIZIO &#8211\; Fatturazione elettronica: opportunità professionali della digitalizzazione e soluzioni operative per la gestione.
URL;VALUE=URI:
DTSTAMP:20260419T104512CEUTC
UID:69e4b2386043c
END:VEVENT
END:VCALENDAR