BEGIN:VCALENDAR
VERSION:2.0
PRODID:-//hacksw/handcal//NONSGML v1.0//EN
CALSCALE:GREGORIAN
BEGIN:VEVENT
LOCATION:Webinar - Webinar
DESCRIPTION:Referente: Ufficio Marketing Sistemi Contatti: marketing@sistemi.com - 011-4019650
DTSTART:20220211T100000CEUTC
DTEND:20220211T163000CEUTC
SUMMARY:Giornata di studio per i Commercialisti del Triveneto in diretta webinar.
URL;VALUE=URI:
DTSTAMP:20260420T010210CEUTC
UID:69e57b125888d
END:VEVENT
END:VCALENDAR