BEGIN:VCALENDAR
VERSION:2.0
PRODID:-//hacksw/handcal//NONSGML v1.0//EN
CALSCALE:GREGORIAN
BEGIN:VEVENT
LOCATION:Grand Hotel - Parco Federico Fellini\, 1 - Rimini
DESCRIPTION:Referente: Ufficio marketing Contatti: marketing@sistemi.com - 011/4019650
DTSTART:20230917T090000CEUTC
DTEND:20230919T180000CEUTC
SUMMARY:Siamo al Richmond Finance Director Forum
URL;VALUE=URI:
DTSTAMP:20260425T140905CEUTC
UID:69eccb0116655
END:VEVENT
END:VCALENDAR