BEGIN:VCALENDAR
VERSION:2.0
PRODID:-//hacksw/handcal//NONSGML v1.0//EN
CALSCALE:GREGORIAN
BEGIN:VEVENT
LOCATION:sala convegni M15-Magazzini delle Professioni\, Via Santa Teresa\, 2 - 37135 - Verona
DESCRIPTION:Referente: Ufficio Marketing Contatti: marketing@sistemi.com - 011/4019650
DTSTART:20260126T150000CEUTC
DTEND:20260126T180000CEUTC
SUMMARY:Evento &#8220\;Manovra 2026 e nuovo decreto sicurezza: strumenti operativi e impatti per imprese e professionisti&#8221\; con l&#8217\;ANCL di Verona
URL;VALUE=URI:
DTSTAMP:20260424T084806CEUTC
UID:69eb2e467e3f9
END:VEVENT
END:VCALENDAR