BEGIN:VCALENDAR
VERSION:2.0
PRODID:-//hacksw/handcal//NONSGML v1.0//EN
CALSCALE:GREGORIAN
BEGIN:VEVENT
LOCATION:Webinar - On line
DESCRIPTION:Referente: Ufficio Marketing Sistemi Contatti: marketing@sistemi.com - 011/4019650
DTSTART:20200918T143000CEUTC
DTEND:20200918T163000CEUTC
SUMMARY:Webinar Contratti a termine e di somministrazione
URL;VALUE=URI:
DTSTAMP:20260421T155754CEUTC
UID:69e79e82910d7
END:VEVENT
END:VCALENDAR