BEGIN:VCALENDAR
VERSION:2.0
PRODID:-//hacksw/handcal//NONSGML v1.0//EN
CALSCALE:GREGORIAN
BEGIN:VEVENT
LOCATION:Web o Presenza - Webinar o Aula
DESCRIPTION:Referente: Ufficio Marketing Contatti: marketing@sistemi.com - 011/4019650
DTSTART:20211214T093000CEUTC
DTEND:20211216T183000CEUTC
SUMMARY:Master Eutekne 3^ giornata: &#8220\;La riforma del terzo settore adempimenti fiscali\, contabili e aspetti giuridici alla luce dell’operatività del RUNTS&#8221\;
URL;VALUE=URI:
DTSTAMP:20260419T172309CEUTC
UID:69e50f7da9e11
END:VEVENT
END:VCALENDAR