BEGIN:VCALENDAR
VERSION:2.0
PRODID:-//hacksw/handcal//NONSGML v1.0//EN
CALSCALE:GREGORIAN
BEGIN:VEVENT
LOCATION:Webinar  - live
DESCRIPTION:Referente: Ufficio Marketing Contatti: marketing@sistemi.com - 011.4019650
DTSTART:20210513T093000CEUTC
DTEND:20210513T120000CEUTC
SUMMARY:Webinar &#8220\;MVV-e: una nuova opportunità&#8221\;
URL;VALUE=URI:
DTSTAMP:20260423T085931CEUTC
UID:69e9df738bc94
END:VEVENT
END:VCALENDAR