BEGIN:VCALENDAR
VERSION:2.0
PRODID:-//hacksw/handcal//NONSGML v1.0//EN
CALSCALE:GREGORIAN
BEGIN:VEVENT
LOCATION:Palazzo dei Congressi<br>Piazza Adua\, 1 - Firenze
DESCRIPTION:Referente: Ufficio Marketing Sistemi Contatti: 011/4019650 - marketing@sistemi.com
DTSTART:20191025T110000CEUTC
DTEND:20191026T130000CEUTC
SUMMARY:Siamo al Convegno Nazionale del CNDCEC
URL;VALUE=URI:
DTSTAMP:20260425T020631CEUTC
UID:69ec21a7ab0bc
END:VEVENT
END:VCALENDAR