BEGIN:VCALENDAR
VERSION:2.0
PRODID:-//hacksw/handcal//NONSGML v1.0//EN
CALSCALE:GREGORIAN
BEGIN:VEVENT
LOCATION:Sale Convegni della Fondazione Commercialisti Monza e Brianza\, Via Lario 15 - Monza
DESCRIPTION:Referente: Ufficio Marketing Sistemi Contatti: marketing@sistemi.com - 011/4019650
DTSTART:20211020T150000CEUTC
DTEND:20211020T173000CEUTC
SUMMARY:Evento ODCEC a Monza &#8211\; “La cura del cliente dello studio professionale: la qualità del servizio e strumenti applicativi”
URL;VALUE=URI:
DTSTAMP:20260419T190452CEUTC
UID:69e527543705d
END:VEVENT
END:VCALENDAR