BEGIN:VCALENDAR
VERSION:2.0
PRODID:-//hacksw/handcal//NONSGML v1.0//EN
CALSCALE:GREGORIAN
BEGIN:VEVENT
LOCATION:Centro Culturale "Paolino D’Aquileia"<br>Via Treppo 5/B  - Udine
DESCRIPTION:Referente: Ufficio Marketing Contatti: marketing@sistemi.com - 011/4019650
DTSTART:20200115T090000CEUTC
DTEND:20200115T130000CEUTC
SUMMARY:Udine – Master tributario “Legge di bilancio 2020: novità per imprese e professionisti”
URL;VALUE=URI:
DTSTAMP:20260423T102703CEUTC
UID:69e9f3f744d3f
END:VEVENT
END:VCALENDAR