BEGIN:VCALENDAR
VERSION:2.0
PRODID:-//hacksw/handcal//NONSGML v1.0//EN
CALSCALE:GREGORIAN
BEGIN:VEVENT
LOCATION:Evento - webinar
DESCRIPTION:Referente: Ufficio Marketing Sistemi Contatti: marketing@sistemi.com - 011/4019650
DTSTART:20260429T143000CEUTC
DTEND:20260429T163000CEUTC
SUMMARY:Evento &#8220\;Il commercialista consulente per la sostenibilità delle imprese&#8221\; con l&#8217\;ODCEC - webinar
URL;VALUE=URI:
DTSTAMP:20260423T162956CEUTC
UID:69ea490475b4b
END:VEVENT
END:VCALENDAR