BEGIN:VCALENDAR
VERSION:2.0
PRODID:-//hacksw/handcal//NONSGML v1.0//EN
CALSCALE:GREGORIAN
BEGIN:VEVENT
LOCATION:Hotel Michelangelo<br>Piazza Luigi di Savoia\, 6 - Milano
DESCRIPTION:Referente: Ufficio Marketing Contatti: marketing@sistemi - 011/4019650
DTSTART:20181019T090000CEUTC
DTEND:20181019T130000CEUTC
SUMMARY:Milano &#8211\; Master tributario &#8220\;Novità fiscali di periodo e fatturazione elettronica&#8221\;
URL;VALUE=URI:
DTSTAMP:20260424T235049CEUTC
UID:69ec01d9d2617
END:VEVENT
END:VCALENDAR