BEGIN:VCALENDAR
VERSION:2.0
PRODID:-//hacksw/handcal//NONSGML v1.0//EN
CALSCALE:GREGORIAN
BEGIN:VEVENT
LOCATION:Vecomp Academy - Via Alberto Dominutti\, 2 - Verona
DESCRIPTION:Referente: Ufficio Marketing Sistemi Contatti: marketing@sistemi.com - 011/4019650
DTSTART:20240328T170000CEUTC
DTEND:20240328T190000CEUTC
SUMMARY:Verona\, convegno &#8220\;Etichettatura vinicola: novità normative e impatto sui processi aziendali”
URL;VALUE=URI:
DTSTAMP:20260419T134812CEUTC
UID:69e4dd1c06fb5
END:VEVENT
END:VCALENDAR