BEGIN:VCALENDAR
VERSION:2.0
PRODID:-//hacksw/handcal//NONSGML v1.0//EN
CALSCALE:GREGORIAN
BEGIN:VEVENT
LOCATION:Grand Hotel Adriatico<br>Via Carlo Maresca 10 - Pescara 
DESCRIPTION:Referente: Ufficio Marketing Contatti: marketing@sistemi.com - 011/4019650
DTSTART:20190221T090000CEUTC
DTEND:20190221T180000CEUTC
SUMMARY:Pescara – Master professionale “La dichiarazione IVA e le novità IVA 2019. Casi e questioni su IVA e fatturazione elettronica 2019”
URL;VALUE=URI:
DTSTAMP:20260422T085455CEUTC
UID:69e88cdfcc7fd
END:VEVENT
END:VCALENDAR