BEGIN:VCALENDAR
VERSION:2.0
PRODID:-//hacksw/handcal//NONSGML v1.0//EN
CALSCALE:GREGORIAN
BEGIN:VEVENT
LOCATION:Evento - E-learning
DESCRIPTION:Referente: Ufficio Marketing Contatti: marketing@sistemi.com - 011/4019650
DTSTART:20231116T100000CEUTC
DTEND:20231116T120000CEUTC
SUMMARY:Evento e-learning “Gli adempimenti dei professionisti in materia di antiriciclaggio” con l’ODCEC di Trieste
URL;VALUE=URI:
DTSTAMP:20260421T230544CEUTC
UID:69e802c83195b
END:VEVENT
END:VCALENDAR