BEGIN:VCALENDAR
VERSION:2.0
PRODID:-//hacksw/handcal//NONSGML v1.0//EN
CALSCALE:GREGORIAN
BEGIN:VEVENT
LOCATION:Via Malfitano - Via Dante\, 167 - Palermo
DESCRIPTION:Referente: Ufficio Marketing Contatti: marketing@sistemi.com - 011/4019650
DTSTART:20240216T090000CEUTC
DTEND:20240216T130000CEUTC
SUMMARY:Palermo\, evento Eutekne-Sistemi\, &#8220\;Le società partecipate pubbliche&#8221\;
URL;VALUE=URI:
DTSTAMP:20260419T222822CEUTC
UID:69e55706cff66
END:VEVENT
END:VCALENDAR