BEGIN:VCALENDAR
VERSION:2.0
PRODID:-//hacksw/handcal//NONSGML v1.0//EN
CALSCALE:GREGORIAN
BEGIN:VEVENT
LOCATION:Sala Gianfranco Imperatori - Piazza Venezia 11 - Roma
DESCRIPTION:Referente: Ufficio Marketing Sistemi Contatti: marketing@sistemi.com - 011/4019650
DTSTART:20260424T110000CEUTC
DTEND:20260424T130000CEUTC
SUMMARY:Siamo alla tavola rotonda &#8220\;Realismo artificiale&#8221\;
URL;VALUE=URI:
DTSTAMP:20260422T075449CEUTC
UID:69e87ec9de270
END:VEVENT
END:VCALENDAR