BEGIN:VCALENDAR
VERSION:2.0
PRODID:-//hacksw/handcal//NONSGML v1.0//EN
CALSCALE:GREGORIAN
BEGIN:VEVENT
LOCATION:Webinar - in collaborazione con Confindustria
DESCRIPTION:Referente: Ufficio Marketing Sistemi Contatti: 011.4019650 - marketing@sistemi.com
DTSTART:20210128T150000CEUTC
DTEND:20210128T163000CEUTC
SUMMARY:Webinar &#8211\; “Pianificazione e controllo – Strumenti per la crescita”
URL;VALUE=URI:
DTSTAMP:20260425T013123CEUTC
UID:69ec196b96be6
END:VEVENT
END:VCALENDAR