BEGIN:VCALENDAR
VERSION:2.0
PRODID:-//hacksw/handcal//NONSGML v1.0//EN
CALSCALE:GREGORIAN
BEGIN:VEVENT
LOCATION:BHR Treviso Hotel<br>Via Postumia Castellana\, 2 - Treviso
DESCRIPTION:Referente: Ufficio Marketing Contatti: marketing@sistemi.com - 011/4019650
DTSTART:20190118T143000CEUTC
DTEND:20190118T183000CEUTC
SUMMARY:Treviso – Master tributario “La legge di Bilancio 2019. Nuove regole per le imprese e le persone fisiche”
URL;VALUE=URI:
DTSTAMP:20260426T011706CEUTC
UID:69ed67928b08c
END:VEVENT
END:VCALENDAR