BEGIN:VCALENDAR
VERSION:2.0
PRODID:-//hacksw/handcal//NONSGML v1.0//EN
CALSCALE:GREGORIAN
BEGIN:VEVENT
LOCATION:Webinar - On line
DESCRIPTION:Referente: Ufficio Marketing Sistemi Contatti: marketing@sistemi.com - 011/4019650
DTSTART:20201120T150000CEUTC
DTEND:20201120T170000CEUTC
SUMMARY:Webinar “Licenziamento e Contratti a termine: quali novità?” con l’Ordine dei CDL di Cagliari
URL;VALUE=URI:
DTSTAMP:20260420T182041CEUTC
UID:69e66e79e9921
END:VEVENT
END:VCALENDAR