BEGIN:VCALENDAR
VERSION:2.0
PRODID:-//hacksw/handcal//NONSGML v1.0//EN
CALSCALE:GREGORIAN
BEGIN:VEVENT
LOCATION:Hotel Maggior Consiglio<br>Str. Terraglio\,140 - Treviso
DESCRIPTION:Referente: Ufficio Marketing Contatti: marketing@sistemi.com - 011/4019650
DTSTART:20190711T090000CEUTC
DTEND:20190611T130000CEUTC
SUMMARY:Treviso &#8211\; Dagli studi di settore agli ISA
URL;VALUE=URI:
DTSTAMP:20260425T152036CEUTC
UID:69ecdbc443e28
END:VEVENT
END:VCALENDAR