BEGIN:VCALENDAR
VERSION:2.0
PRODID:-//hacksw/handcal//NONSGML v1.0//EN
CALSCALE:GREGORIAN
BEGIN:VEVENT
LOCATION:PALACE HOTEL MARIA LUIGIA <br>Viale Mentana 140 - Parma
DESCRIPTION:Referente: Ufficio Marketing Contatti: marketing@sistemi.com - 011/4019650
DTSTART:20180620T140000CEUTC
DTEND:20180620T180000CEUTC
SUMMARY:Parma &#8211\; La nuova normativa privacy: il regolamento UE 2016/79
URL;VALUE=URI:
DTSTAMP:20260423T212137CEUTC
UID:69ea8d6163901
END:VEVENT
END:VCALENDAR