BEGIN:VCALENDAR
VERSION:2.0
PRODID:-//hacksw/handcal//NONSGML v1.0//EN
CALSCALE:GREGORIAN
BEGIN:VEVENT
LOCATION:Hotel Nettuno - Viale Ruggero di Lauria\, 121  - Catania
DESCRIPTION:Referente: Ufficio Marketing Contatti: marketing@sistemi.com - 011/4019650
DTSTART:20230207T090000CEUTC
DTEND:20230207T130000CEUTC
SUMMARY:Catania\, evento Eutekne-Sistemi <br>&#8220\;Le novità della Legge di Bilancio 2023&#8221\;
URL;VALUE=URI:
DTSTAMP:20260421T080852CEUTC
UID:69e73094e2e27
END:VEVENT
END:VCALENDAR