BEGIN:VCALENDAR
VERSION:2.0
PRODID:-//hacksw/handcal//NONSGML v1.0//EN
CALSCALE:GREGORIAN
BEGIN:VEVENT
LOCATION:Auditorium della Tecnica\, Viale dell’Astronomia 30 - Roma
DESCRIPTION:Referente: Ufficio Marketing Sistemi Contatti: marketing@sistemi.com - 011/4019650
DTSTART:20211210T100000CEUTC
DTEND:20211210T180000CEUTC
SUMMARY:Roma &#8211\; XIII Forum dei Giovani Commercialisti
URL;VALUE=URI:
DTSTAMP:20260424T042854CEUTC
UID:69eaf18674f32
END:VEVENT
END:VCALENDAR