BEGIN:VCALENDAR
VERSION:2.0
PRODID:-//hacksw/handcal//NONSGML v1.0//EN
CALSCALE:GREGORIAN
BEGIN:VEVENT
LOCATION:Evento - E-learning
DESCRIPTION:Referente: Ufficio Marketing Contatti: marketing@sistemi.com - 011/4019650
DTSTART:20251027T150000CEUTC
DTEND:20251027T170000CEUTC
SUMMARY:Evento e-learning &#8220\;Agevolazioni assunzioni&#8221\; con l&#8217\;Ordine dei CdL di Pistoia
URL;VALUE=URI:
DTSTAMP:20260425T221447CEUTC
UID:69ed3cd7f0bf9
END:VEVENT
END:VCALENDAR