BEGIN:VCALENDAR
VERSION:2.0
PRODID:-//hacksw/handcal//NONSGML v1.0//EN
CALSCALE:GREGORIAN
BEGIN:VEVENT
LOCATION:Webinar - On line
DESCRIPTION:Referente: Ufficio Marketing Sistemi Contatti: marketing@sistemi.com - 011/4019650
DTSTART:20230713T160000CEUTC
DTEND:20230713T170000CEUTC
SUMMARY:Webinar “L’enologo di domani\, stilista e manager”
URL;VALUE=URI:
DTSTAMP:20260425T140833CEUTC
UID:69eccae14e504
END:VEVENT
END:VCALENDAR