BEGIN:VCALENDAR
VERSION:2.0
PRODID:-//hacksw/handcal//NONSGML v1.0//EN
CALSCALE:GREGORIAN
BEGIN:VEVENT
LOCATION:Centro Congressi Fondazione Stelline<br>Corso Magenta 61 - Milano
DESCRIPTION:Referente: Ufficio Marketing Contatti: marketing@sistemi.com - 011/4019650
DTSTART:20181109T090000CEUTC
DTEND:20181109T180000CEUTC
SUMMARY:Milano &#8211\; L&#8217\;obbligo di fatturazione elettronica
URL;VALUE=URI:
DTSTAMP:20260419T101628CEUTC
UID:69e4ab7ce7ee5
END:VEVENT
END:VCALENDAR