BEGIN:VCALENDAR
VERSION:2.0
PRODID:-//hacksw/handcal//NONSGML v1.0//EN
CALSCALE:GREGORIAN
BEGIN:VEVENT
LOCATION:Web o Presenza - Webinar o Aula
DESCRIPTION:Referente: Ufficio Marketing Contatti: marketing@sistemi.com - 011/4019650
DTSTART:20211019T093000CEUTC
DTEND:20211111T183000CEUTC
SUMMARY:Master Eutekne 1^ giornata: “Novità dei provvedimenti estivi per imprese\, professionisti e persone fisiche” e <br>&#8220\;Le criticità finanziarie nell’era COVID&#8221\;
URL;VALUE=URI:
DTSTAMP:20260420T045058CEUTC
UID:69e5b0b2e5443
END:VEVENT
END:VCALENDAR