BEGIN:VCALENDAR
VERSION:2.0
PRODID:-//hacksw/handcal//NONSGML v1.0//EN
CALSCALE:GREGORIAN
BEGIN:VEVENT
LOCATION:Webinar - On line
DESCRIPTION:Referente: Ufficio Marketing Sistemi Contatti: marketing@sistemi.com - 011/4019650
DTSTART:20221206T144500CEUTC
DTEND:20221206T170000CEUTC
SUMMARY:Webinar “La continuità aziendale nella prospettiva economico finanziaria” con l&#8217\;ODCEC di Prato.
URL;VALUE=URI:
DTSTAMP:20260423T183403CEUTC
UID:69ea661bdcf93
END:VEVENT
END:VCALENDAR