BEGIN:VCALENDAR
VERSION:2.0
PRODID:-//hacksw/handcal//NONSGML v1.0//EN
CALSCALE:GREGORIAN
BEGIN:VEVENT
LOCATION:Live - Streaming
DESCRIPTION:Referente: Ufficio Marketing Contatti: marketing@sistemi.com - 011.4019650
DTSTART:20210519T100000CEUTC
DTEND:20210519T130000CEUTC
SUMMARY:Convegno &#8220\;Il nuovo ruolo della direzione HR: dall&#8217\;emergenza alle sfide future&#8221\;
URL;VALUE=URI:
DTSTAMP:20260423T145949CEUTC
UID:69ea33e58c9b4
END:VEVENT
END:VCALENDAR