BEGIN:VCALENDAR
VERSION:2.0
PRODID:-//hacksw/handcal//NONSGML v1.0//EN
CALSCALE:GREGORIAN
BEGIN:VEVENT
LOCATION:Sala Conferenze Koinè<br>Via Lancia 8/A - Bolzano
DESCRIPTION:Referente: Ufficio Marketing Contatti: marketing@sistemi.com - 011/4019650
DTSTART:20190710T143000CEUTC
DTEND:20190710T183000CEUTC
SUMMARY:Bolzano &#8211\; Dagli studi di settore agli ISA
URL;VALUE=URI:
DTSTAMP:20260422T042757CEUTC
UID:69e84e4dbf8f1
END:VEVENT
END:VCALENDAR