BEGIN:VCALENDAR
VERSION:2.0
PRODID:-//hacksw/handcal//NONSGML v1.0//EN
CALSCALE:GREGORIAN
BEGIN:VEVENT
LOCATION:SEDE DELL'UNIONE INDUSTRIALE DEL VERCELLESE E DELLA VALSESIA Via Piero Lucca 6 - Vercelli
DESCRIPTION:Referente: Ufficio Marketing Contatti: marketing@sistemi.com - 011-4019650
DTSTART:20150304T090000CEUTC
DTEND:20150304T130000CEUTC
SUMMARY:Vercelli\, Master di aggiornamento tributario accreditato per i Commercialisti.
URL;VALUE=URI:
DTSTAMP:20260423T204501CEUTC
UID:69ea84cda6d25
END:VEVENT
END:VCALENDAR