BEGIN:VCALENDAR
VERSION:2.0
PRODID:-//hacksw/handcal//NONSGML v1.0//EN
CALSCALE:GREGORIAN
BEGIN:VEVENT
LOCATION:Sede ABC - Via Rodi 19 - Brescia
DESCRIPTION:Referente: Ufficio Marketing Contatti: marketing@sistemi.com - 011/4019650
DTSTART:20240129T150000CEUTC
DTEND:20240129T173000CEUTC
SUMMARY:Evento &#8220\;La continuità aziendale e gli adeguati assetti organizzativi\, amministrativi e contabili&#8221\; con l&#8217\;Associazione Bresciana Commercialisti di Brescia
URL;VALUE=URI:
DTSTAMP:20260422T102109CEUTC
UID:69e8a115dcbfa
END:VEVENT
END:VCALENDAR