BEGIN:VCALENDAR
VERSION:2.0
PRODID:-//hacksw/handcal//NONSGML v1.0//EN
CALSCALE:GREGORIAN
BEGIN:VEVENT
LOCATION:webinar - online
DESCRIPTION:Referente: Ufficio Marketing Sistemi Contatti: marketing@sistemi.com - 011-4019650
DTSTART:20220120T143000CEUTC
DTEND:20220120T173000CEUTC
SUMMARY:Webinar &#8211\; Giornata di studio Eutekne &#8220\;Processo Tributario Telematico: normativa\, adempimenti e giurisprudenza“
URL;VALUE=URI:
DTSTAMP:20260419T151411CEUTC
UID:69e4f1432141c
END:VEVENT
END:VCALENDAR