BEGIN:VCALENDAR
VERSION:2.0
PRODID:-//hacksw/handcal//NONSGML v1.0//EN
CALSCALE:GREGORIAN
BEGIN:VEVENT
LOCATION:Parco Hotel delle Fontane Viale Scala Greca\, 325 - Siracusa
DESCRIPTION:Referente: Ufficio Marketing Sistemi Contatti: marketing@sistemi.com - 011/4019650
DTSTART:20260429T090000CEUTC
DTEND:20260429T130000CEUTC
SUMMARY:Evento “Clausole accessorie al contratto di lavoro e procedure di armonizzazione contrattuale” con l&#8217\;Ordine dei Consulenti del Lavoro - Siracusa
URL;VALUE=URI:
DTSTAMP:20260423T111002CEUTC
UID:69e9fe0a6d0eb
END:VEVENT
END:VCALENDAR