BEGIN:VCALENDAR
VERSION:2.0
PRODID:-//hacksw/handcal//NONSGML v1.0//EN
CALSCALE:GREGORIAN
BEGIN:VEVENT
LOCATION:Sede ODCEC di Trapani\, via Eurialo\, 7 - Trapani
DESCRIPTION:Referente: Ufficio Marketing Contatti: marketing@sistemi.com - 011/4019650
DTSTART:20231011T150000CEUTC
DTEND:20231011T180000CEUTC
SUMMARY:“Gli adempimenti dei professionisti in materia di antiriciclaggio e soluzioni operative per la gestione” con l’ODCEC di Trapani
URL;VALUE=URI:
DTSTAMP:20260419T101910CEUTC
UID:69e4ac1e4f513
END:VEVENT
END:VCALENDAR