BEGIN:VCALENDAR
VERSION:2.0
PRODID:-//hacksw/handcal//NONSGML v1.0//EN
CALSCALE:GREGORIAN
BEGIN:VEVENT
LOCATION:Webinar - on line
DESCRIPTION:Referente: Ufficio Marketing Sistemi Contatti: marketing@sistemi.com - 011-4019650
DTSTART:20240306T143000CEUTC
DTEND:20240306T173000CEUTC
SUMMARY:Webinar &#8211\; Percorso Specialistico Eutekne &#8220\;Il nuovo Processo Tributario Telematico“
URL;VALUE=URI:
DTSTAMP:20260418T214519CEUTC
UID:69e3fb6faa323
END:VEVENT
END:VCALENDAR