BEGIN:VCALENDAR
VERSION:2.0
PRODID:-//hacksw/handcal//NONSGML v1.0//EN
CALSCALE:GREGORIAN
BEGIN:VEVENT
LOCATION:Casa Martini & Rossi\, Piazza Luigi Rossi 2 - Pessione (TO)
DESCRIPTION:Referente: Ufficio Marketing Contatti: marketing@sistemi.com - 011/4019650
DTSTART:20230303T090000CEUTC
DTEND:20230303T163500CEUTC
SUMMARY:Siamo sponsor del convegno Fabbrica Futuro di Torino
URL;VALUE=URI:
DTSTAMP:20260423T151156CEUTC
UID:69ea36bc8cf7c
END:VEVENT
END:VCALENDAR