BEGIN:VCALENDAR
VERSION:2.0
PRODID:-//hacksw/handcal//NONSGML v1.0//EN
CALSCALE:GREGORIAN
BEGIN:VEVENT
LOCATION:Webinar - On line
DESCRIPTION:Referente: Ufficio Marketing Sistemi Contatti: marketing@sistemi.com - 011/4019650
DTSTART:20220920T150000CEUTC
DTEND:20220920T170000CEUTC
SUMMARY:Webinar “La continuità aziendale nella prospettiva economico finanziaria” con l’ODCEC di Varese.
URL;VALUE=URI:
DTSTAMP:20260419T190450CEUTC
UID:69e527529aefc
END:VEVENT
END:VCALENDAR