BEGIN:VCALENDAR
VERSION:2.0
PRODID:-//hacksw/handcal//NONSGML v1.0//EN
CALSCALE:GREGORIAN
BEGIN:VEVENT
LOCATION:CAESAR’S HOTEL - Cagliari
DESCRIPTION:Referente: Ufficio Marketing Contatti: marketing@sistemi.com
DTSTART:20231002T150000CEUTC
DTEND:20231002T173000CEUTC
SUMMARY:“Gli adempimenti dei professionisti in materia di antiriciclaggio e soluzioni operative per la gestione” con l’ODCEC di Cagliari
URL;VALUE=URI:
DTSTAMP:20260423T224608CEUTC
UID:69eaa130d0df7
END:VEVENT
END:VCALENDAR